Workbook

Sheet Orçamento
A1: PLANILHA ORÇAMENTÁRIA
C3: PREFEITURA MUNICIPAL DE BURITIZEIRO/MG CNPJ: 18.279.067/0001-72 | F3: Data: | H3: 44266
F4: Data base: SINAPI | H4: 44228
F5: Data base: SETOP | H5: 44197
F6: BDI: | H6: 0.25
A8: Objeto: Revitalização Balnéario do Córrego das Pedras
A9: Endereço: Rua Mauá, Buritizeiro - MG
G11: TOTAL | I11: =SUM(I110) -> 248064.62
A12: ITEM | B12: CÓDIGO | C12: FONTE | D12: DESCRIÇÃO DOS SERVIÇOS | E12: UNID. | F12: QUANT. | G12: VALOR UNIT (R$) | H12: VALOR UNIT COM BDI R$ | I12: VALOR (R$)
A14: 1 | B14: SERVIÇOS INICIAIS
A15: 1.1 | B15: ED-50152 | C15: SETOP | D15: FORNECIMENTO E COLOCAÇÃO DE PLACA DE OBRA EM CHAPA GALVANIZADA (3,00 X 1,5 0 M) - EM CHAPA GALVANIZADA 0,26 AFIXADAS COM REBITES 540 E PARAFUSOS 3/8, EM ESTRUTURA METÁLICA VIGA U 2" ENRIJECIDA COM METALON 20 X 20, SUPORTE EM EUCALIPTO AUTOCLAVADO PINTADAS. | E15: U | F15: 1 | G15: 1088.76 | H15: =G15+(G15*H6) -> 1360.95 | I15: =F15*H15 -> 1360.95
D16: SUBTOTAL | E16: =SUM(I15:I15) -> 1360.95
A18: 2 | B18: ADMINISTRAÇÃO LOCAL
A19: 2.1 | B19: 90777 | C19: SINAPI | D19: ENGENHEIRO CIVIL DE OBRA JUNIOR COM ENCARGOS COMPLEMENTARES | E19: H | F19: 60 | G19: 76.39 | H19: =G19+(G19*H6) -> 95.4875 | I19: =F19*H19 -> 5729.25
A20: 2.2 | B20: 90776 | C20: SINAPI | D20: ENCARREGADO GERAL COM ENCARGOS COMPLEMENTARES | E20: H | F20: 720 | G20: 35.26 | H20: =G20+(G20*H6) -> 44.075 | I20: =F20*H20 -> 31734
D21: SUBTOTAL | E21: =SUM(I19:I20) -> 37463.25
A23: 3 | B23: REMOÇÕES E DEMOLIÇÕES
A24: 3.1 | B24: ED-48473 | C24: SETOP | D24: REMOÇÃO DE MEIO-FIO DE PEDRA(GNAISSE, BASALTO, ETC.) INCLUSIVE CARGA. | E24: M | F24: 230.72 | G24: 18.83 | H24: =G24+(G24*H6) -> 23.5375 | I24: =F24*H24 -> 5430.572
A25: 3.2 | B25: RO-41602 | C25: SETOP | D25: DEMOLIÇÃO MECÂNICA DE CONCRETO ARMADO | E25: M3 | F25: 1.125 | G25: 135.34 | H25: =G25+(G25*H6) -> 169.175 | I25: =F25*H25 -> 190.32188
D26: SUBTOTAL | E26: =SUM(I24:I25) -> 5620.8939
A28: 4 | B28: MOVIMENTAÇÃO DE TERRA
A29: 4.1 | B29: ED-51107 | C29: SETOP | D29: ESCAVAÇÃO MANUAL DE VALAS H <= 1,50 M | E29: M3 | F29: 10.8 | G29: 28.2 | H29: =G29+(G29*H6) -> 35.25 | I29: =F29*H29 -> 380.7
A30: 4.2 | B30: ED-51105 | C30: SETOP | D30: ESCAVAÇÃO E CARGA MECANIZADA EM MATERIAL DE 1ª CATEGORIA | E30: M³ | F30: 657.3 | G30: 3.3 | H30: =G30+(G30*H6) -> 4.125 | I30: =F30*H30 -> 2711.3625
A31: 4.3 | B31: ED-51129 | C31: SETOP | D31: TRANSPORTE DE MATERIAL DE QUALQUER NATUREZA EM CAMINHÃO 2 KM < DMT <= 5 KM (DENTRO DO PERÍMETRO URBANO) | E31: M3xKM | F31: 1314.6 | G31: 3.33 | H31: =G31+(G31*H6) -> 4.1625 | I31: =F31*H31 -> 5472.0225
A32: 4.4 | B32: ED-51123 | C32: SETOP | D32: REGULARIZAÇÃO E COMPACTAÇÃO DE TERRENO COM PLACA VIBRATÓRIA | E32: M2 | F32: 847.86 | G32: 2.47 | H32: =G32+(G32*H6) -> 3.0875 | I32: =F32*H32 -> 2617.7678
D33: SUBTOTAL | E33: =SUM(I29:I33) -> 11181.853
A35: 5 | B35: DRENAGEM
A36: 5.1 | B36: ED-48550 | C36: SETOP | D36: BOCA DE LOBO SIMPLES (TIPO B - CONCRETO), QUADRO, GRELHA E CANTONEIRA, INCLUSIVE ESCAVAÇÃO, REATERRO E BOTA-FORA | E36: U | F36: 1 | G36: 824.24 | H36: =G36+(G36*H6) -> 1030.3 | I36: =F36*H36 -> 1030.3
A37: 5.2 | B37: ED-48683 | C37: SETOP | D37: FORNECIMENTO, ASSENTAMENTO E REJUNTAMENTO DE TUBO DE CONCRETO ARMADO PA1 D = 800 MM | E37: M | F37: 2 | G37: 242.94 | H37: =G37+(G37*H6) -> 303.675 | I37: =F37*H37 -> 607.35
D38: SUBTOTAL | E38: =SUM(I36:I37) -> 1637.65
A40: 6 | B40: INFRAESTRUTURA
A41: 6.1 | B41: ED-49747 | C41: SETOP | D41: PERFURAÇÃO DE ESTACA BROCA A TRADO MANUAL D = 200 MM | E41: M | F41: 139 | G41: 19.84 | H41: =G41+(G41*H6) -> 24.8 | I41: =F41*H41 -> 3447.2
A42: 6.2 | B42: ED-49810 | C42: SETOP | D42: FORMA E DESFORMA DE TÁBUA E SARRAFO, REAPROVEITAMENTO (3X) (FUNDAÇÃO) | E42: M² | F42: 159.5 | G42: 38.35 | H42: =G42+(G42*H6) -> 47.9375 | I42: =F42*H42 -> 7646.0312
A43: 6.3 | B43: ED-48297 | C43: SETOP | D43: CORTE, DOBRA E MONTAGEM DE AÇO CA-60 DIÂMETRO (4,2MM A 5,0MM). | E43: KG | F43: 318.62 | G43: 7.23 | H43: =G43+(G43*H6) -> 9.0375 | I43: =F43*H43 -> 2879.5283
A44: 6.4 | B44: ED-48295 | C44: SETOP | D44: CORTE, DOBRA E MONTAGEM DE AÇO CA-50 DIÂMETRO (6,3MM A 12,5MM). | E44: KG | F44: 810.25 | G44: 7.42 | H44: =G44+(G44*H6) -> 9.275 | I44: =F44*H44 -> 7515.0688
A45: 6.5 | B45: RO-41632 | C45: SETOP | D45: CONCRETO DE CIMENTO PORTLAND,FCK>=25,0MPA (EXECUÇÃO, INCLUINDO O FORNECIMENTO E TRANSPORTE DOS AGREGADOS). | E45: M³ | F45: 18.86 | G45: 359.66 | H45: =G45+(G45*H6) -> 449.575 | I45: =F45*H45 -> 8478.9845
A46: 6.6 | B46: ED-48214 | C46: SETOP | D46: ALVENARIA DE BLOCO DE CONCRETO CHEIO COM ARMAÇÃO, EM CONCRETO COM FCK 15MPA , ESP. 19CM, PARA REVESTIMENTO, INCLUSIVE ARGAMASSA PARA ASSENTAMENTO (DETALHE D - CADERNO SEDS). | E46: M2 | F46: 142.14 | G46: 186.03 | H46: =G46+(G46*H6) -> 232.5375 | I46: =F46*H46 -> 33052.88
A47: 6.7 | B47: ED-48195 | C47: SETOP | D47: ALVENARIA DE VEDAÇÃO COM BLOCO DE CONCRETO, ESP. 14CM, COM ACABAMENTO APARENTE, INCLUSIVE ARGAMASSA PARA ASSENTAMENTO | E47: M2 | F47: 21.12 | G47: 62.91 | H47: =G47+(G47*H6) -> 78.6375 | I47: =F47*H47 -> 1660.824
A48: 6.8 | B48: COMPOSIÇÃO | C48: SINAPI | D48: CONTRAPISO EM ARGAMASSA PRONTA COM PEDRA PORTUGUESA, PREPARO MANUAL, APLICADO EM ÁREAS MOLHADAS , ADERIDO, ESPESSURA 8CM. | E48: M2 | F48: 15.9 | G48: 192.37 | H48: =G48+(G48*H6) -> 240.4625 | I48: =F48*H48 -> 3823.3538
A49: 6.9 | B49: 97084 | C49: SINAPI | D49: COMPACTAÇÃO MECÂNICA DE SOLO PARA EXECUÇÃO DE RADIER, COM COMPACTADOR DE SOLOS TIPO PLACA VIBRATÓRIA. | E49: M2 | F49: 43.2 | G49: 0.42 | H49: =G49+(G49*H6) -> 0.525 | I49: =F49*H49 -> 22.68
A50: 6.10 | B50: 97088 | C50: SINAPI | D50: ARMAÇÃO PARA EXECUÇÃO DE RADIER, COM USO DE TELA Q-92. | E50: KG | F50: 63.93 | G50: 23.97 | H50: =G50+(G50*H6) -> 29.9625 | I50: =F50*H50 -> 1915.5026
A51: 6.11 | B51: 97094 | C51: SINAPI | D51: CONCRETAGEM DE RADIER, PISO OU LAJE SOBRE SOLO, FCK 30 MPA, PARA ESPESSURADE 10 CM - LANÇAMENTO, ADENSAMENTO E ACABAMENTO. | E51: M3 | F51: 7.77 | G51: 411.68 | H51: =G51+(G51*H6) -> 514.6 | I51: =F51*H51 -> 3998.442
A52: 6.12 | B52: ED-48215 | C52: SETOP | D52: ALVENARIA DE BLOCO DE CONCRETO CHEIO SEM ARMAÇÃO, EM CONCRETO COM FCK 15MPA , ESP. 9CM, PARA REVESTIMENTO, INCLUSIVE ARGAMASSA PARA ASSENTAMENTO (DETALHE D - CADERNO SEDS). | E52: M2 | F52: 20.24 | G52: 62.91 | H52: =G52+(G52*H6) -> 78.6375 | I52: =F52*H52 -> 1591.623
A53: 6.13 | B53: ED-50761 | C53: SETOP | D53: REBOCO COM ARGAMASSA, TRAÇO 1:2:8 (CIMENTO, CAL E AREIA), ESP. 20MM, APLICAÇÃO MANUAL, PREPARO MECÂNICO | E53: M2 | F53: 41.36 | G53: 23.69 | H53: =G53+(G53*H6) -> 29.6125 | I53: =F53*H53 -> 1224.773
D54: SUBTOTAL | E54: =SUM(I41:I53) -> 77256.891
A56: 7 | B56: INSTALAÇÕES HIDRAULICAS
A57: 7.1 | B57: ED-50079 | C57: SETOP | D57: FORNECIMENTO E ASSENTAMENTO DE TUBO PVC RÍGIDO ROSCÁVEL, ÁGUA FRIA, DN 3/4" (25 MM), INCLUSIVE CONEXÕES | E57: M | F57: 112.97 | G57: 20.07 | H57: =G57+(G57*H6) -> 25.0875 | I57: =F57*H57 -> 2834.1349
A58: 7.2 | B58: ED-50000 | C58: SETOP | D58: REGISTRO DE ESFERA, TIPO PVC SOLDÁVEL DN 25MM (3/4"), INCLUSIVE VOLANTE PARA ACIONAMENTO | E58: U | F58: 11 | G58: 19.97 | H58: =G58+(G58*H6) -> 24.9625 | I58: =F58*H58 -> 274.5875
A59: 7.3 | B59: ED-49972 | C59: SETOP | D59: REGISTRO DE GAVETA, TIPO BRUTO, ROSCÁVEL 3/4" (PARA TUBO SOLDÁVEL OU PPR DN 25MM/CPVC DN 22MM), INCLUSIVE VOLANTE PARA ACIONAMENTO | E59: U | F59: 2 | G59: 27.58 | H59: =G59+(G59*H6) -> 34.475 | I59: =F59*H59 -> 68.95
A60: 7.4 | B60: ED-49171 | C60: SETOP | D60: CAIXA DE PASSAGEM EM ALVENARIA E TAMPA DE CONCRETO, FUNDO DE BRITA, TIPO 1, 25 X 25 X 50 CM, INCLUSIVE ESCAVAÇÃO, REATERRO E BOTA-FORA | E60: U | F60: 5 | G60: 97.99 | H60: =G60+(G60*H6) -> 122.4875 | I60: =F60*H60 -> 612.4375
A61: 7.5 | B61: ED-15206 | C61: SETOP | D61: KIT CAVALETE PARA MEDIÇÃO DE ÁGUA, INSTALADO SOBRE PISO, EM AÇO GALVANIZADO DN 20MM (1/2") - PADRÃO CONCESSIONÁRIA LOCAL, INCLUSIVE BASE EM CONCRETO DE 25 MPA PARA CAVALETE, EXCLUSIVE HIDRÔMETRO | E61: U | F61: 1 | G61: 226.31 | H61: =G61+(G61*H6) -> 282.8875 | I61: =F61*H61 -> 282.8875
D62: SUBTOTAL | E62: =SUM(I57:I61) -> 4072.9974
A64: 8 | B64: INSTALAÇÕES ELÉTRICA
A65: 8.1 | B65: ED-49205 | C65: SETOP | D65: CAIXA PARA MEDIDOR POLIFÁSICO, COM VISOR PARA VIA PÚBLICA DIM. 46 X 35 X 21 CM, LVP. MED. DISJ., CONFORME PADRÕES CEMIG | E65: U | F65: 2 | G65: 189.82 | H65: =G65+(G65*H6) -> 237.275 | I65: =F65*H65 -> 474.55
A66: 8.2 | B66: ED-49318 | C66: SETOP | D66: ELETRODUTO DE AÇO GALVANIZADO LEVE, INCLUSIVE CONEXÕES, SUPORTES E FIXAÇÃO DN 25 (1") | E66: M | F66: 8 | G66: 190.82 | H66: =G66+(G66*H6) -> 238.525 | I66: =F66*H66 -> 1908.2
A67: 8.3 | B67: ED-49171 | C67: SETOP | D67: CAIXA DE PASSAGEM EM ALVENARIA E TAMPA DE CONCRETO, FUNDO DE BRITA, TIPO 1, 25 X 25 X 50 CM, INCLUSIVE ESCAVAÇÃO, REATERRO E BOTA-FORA | E67: U | F67: 22 | G67: 97.99 | H67: =G67+(G67*H6) -> 122.4875 | I67: =F67*H67 -> 2694.725
A68: 8.4 | B68: ED-49310 | C68: SETOP | D68: ELETRODUTO DE PVC RÍGIDO ROSCÁVEL, DN 32 MM (1.1/4"), INCLUSIVE CONEXÕES, SUPORTES E FIXAÇÃO | E68: M | F68: 231.37 | G68: 20.82 | H68: =G68+(G68*H6) -> 26.025 | I68: =F68*H68 -> 6021.4042
A69: 8.5 | B69: ED-48956 | C69: SETOP | D69: CABO DE COBRE FLEXÍVEL, CLASSE 5, ISOLAMENTO TIPO LSHF/ATOX, NÃO HALOGENADO, ANTICHAMA, TERMOPLÁSTICO, UNIPOLAR, SEÇÃO 4 MM2, 70°C, 450/750V | E69: M | F69: 509.05 | G69: 5.72 | H69: =G69+(G69*H6) -> 7.15 | I69: =F69*H69 -> 3639.7075
A70: 8.6 | B70: ED-48961 | C70: SETOP | D70: CABO DE COBRE FLEXÍVEL, CLASSE 5, ISOLAMENTO TIPO LSHF/ATOX, NÃO HALOGENADO, ANTICHAMA, TERMOPLÁSTICO, UNIPOLAR, SEÇÃO 6 MM2, 70°C, 450/750V | E70: M | F70: 41.43 | G70: 6.55 | H70: =G70+(G70*H6) -> 8.1875 | I70: =F70*H70 -> 339.20812
A71: 8.7 | B71: 100619 | C71: SINAPI | D71: POSTE DECORATIVO PARA JARDIM EM AÇO TUBULAR, H = *2,5* M, SEM LUMINÁRIA - FORNECIMENTO E INSTALAÇÃO. | E71: U | F71: 14 | G71: 470.91 | H71: =G71+(G71*H6) -> 588.6375 | I71: =F71*H71 -> 8240.925
A72: 8.8 | B72: ED-49374 | C72: SETOP | D72: LÂMPADA COMPACTADA ELETRÔNICA FLUORESCENTE, BASE E27, POTÊNCIA 23W, TENSÃO 110-127V, FORNECIMENTO E INSTALAÇÃO, EXCLUSIVE LUMINÁRIA | E72: U | F72: 14 | G72: 12.93 | H72: =G72+(G72*H6) -> 16.1625 | I72: =F72*H72 -> 226.275
A73: 8.9 | B73: ED-49268 | C73: SETOP | D73: DISJUNTOR BIPOLAR TERMOMAGNÉTICO 5KA, DE 10A. | E73: U | F73: 1 | G73: 41.75 | H73: =G73+(G73*H6) -> 52.1875 | I73: =F73*H73 -> 52.1875
A74: 8.10 | B74: ED-49270 | C74: SETOP | D74: DISJUNTOR BIPOLAR TERMOMAGNÉTICO 5KA, DE 16A. | E74: U | F74: 1 | G74: 41.12 | H74: =G74+(G74*H6) -> 51.4 | I74: =F74*H74 -> 51.4
A75: 8.11 | B75: ED-15115 | C75: SETOP | D75: DISJUNTOR DE PROTEÇÃO DIFERENCIAL RESIDUAL (DR), BIPOLAR, TIPO DIN, CORRENTE NOMINAL DE 40A, ALTA SENSIBILIDADE, CORRENTE DIFERENCIAL RESIDUAL NOMINAL COM ATUAÇÃO DE 30MA | E75: U | F75: 1 | G75: 110.23 | H75: =G75+(G75*H6) -> 137.7875 | I75: =F75*H75 -> 137.7875
A76: 8.12 | B76: 101632 | C76: SINAPI | D76: RELÉ FOTOELÉTRICO PARA COMANDO DE ILUMINAÇÃO EXTERNA 1000 W - FORNECIMENTO E INSTALAÇÃO. | E76: U | F76: 1 | G76: 23.04 | H76: =G76+(G76*H6) -> 28.8 | I76: =F76*H76 -> 28.8
A77: 8.13 | B77: COTAÇÃO | C77: MERCADO | D77: REFLETOR HOLOFOTE LED VERDE 50 W BIVOLT A PROVA DÁGUA | E77: U | F77: 8 | G77: 64.9 | H77: =G77+(G77*H6) -> 81.125 | I77: =F77*H77 -> 649
A78: 8.14 | B78: ED-49505 | C78: SETOP | D78: QUADRO DE DISTRIBUIÇÃO DE LUZ EM PVC DE EMBUTIR, ATÉ 8 DIVISÕES MODULARES, DIMENSÕES EXTERNAS 160 X 240 X 89 MM | E78: U | F78: 1 | G78: 171.79 | H78: =G78+(G78*H6) -> 214.7375 | I78: =F78*H78 -> 214.7375
D79: SUBTOTAL | E79: =SUM(I65:I78) -> 24678.907
A81: 9 | B81: URBANIZAÇÃO
A82: 9.1 | B82: ED-51140 | C82: SETOP | D82: GUIA DE MEIO-FIO, EM CONCRETO COM FCK 20MPA, PRÉ-MOLDADA, MFC-03 PADRÃO DEER-MG, DIMENSÕES (12X18X45)CM, EXCLUSIVE SARJETA, INCLUSIVE ESCAVAÇÃO, APILOAMENTO E TRANSPORTE COM RETIRADA DO MATERIAL ESCAVADO (EM CAÇAMBA) | E82: M | F82: 137.83 | G82: 52.54 | H82: =G82+(G82*H6) -> 65.675 | I82: =F82*H82 -> 9051.9852
A83: 9.2 | B83: ED-14762 | C83: SETOP | D83: SARJETA DE CONCRETO URBANO (SCU), TIPO 1, COM FCK 15 MPA, LARGURA DE 50CM COM INCLINAÇÃO DE 3%, ESP. 7CM, PADRÃO DEER-MG, EXCLUSIVE MEIO-FIO, INCLUSIVE ESCAVAÇÃO, APILAOMENTO E TRANSPORTE COM RETIRADA DO MATERIAL ESCAVADO (EM CAÇAMBA) | E83: M | F83: 137.83 | G83: 23.68 | H83: =G83+(G83*H6) -> 29.6 | I83: =F83*H83 -> 4079.768
A84: 9.3 | B84: 94266 | C84: SINAPI | D84: GUIA (MEIO-FIO) CONCRETO, MOLDADA IN LOCO EM TRECHO CURVO COM EXTRUSORA,15 CM BASE X 30 CM ALTURA. | E84: M | F84: 77.43 | G84: 67.65 | H84: =G84+(G84*H6) -> 84.5625 | I84: =F84*H84 -> 6547.6744
A85: 9.4 | B85: ED-15227 | C85: SETOP | D85: PISO PODOTÁTIL DE CONCRETO, DIRECIONAL, APLICADO EM PISO (20X20CM) COM JUNTA SECA, COR VERMELHO/AMARELO, ASSENTAMENTO COM ARGAMASSA INDUSTRIALIZADA, INCLUSIVE FORNECIMENTO E INSTALAÇÃO | E85: M² | F85: 0.48 | G85: 61.62 | H85: =G85+(G85*H6) -> 77.025 | I85: =F85*H85 -> 36.972
A86: 9.5 | B86: ED-15226 | C86: SETOP | D86: PISO PODOTÁTIL DE CONCRETO, ALERTA, APLICADO EM PISO (20X20CM) COM JUNTA SECA, COR VERMELHO/AMARELO, ASSENTAMENTO COM ARGAMASSA INDUSTRIALIZADA, INCLUSIVE FORNECIMENTO E INSTALAÇÃO. | E86: M² | F86: 1.12 | G86: 61.62 | H86: =G86+(G86*H6) -> 77.025 | I86: =F86*H86 -> 86.268
A87: 9.6 | B87: ED-51146 | C87: SETOP | D87: PASSEIO/PAVIMENTO ECOLÓGICO INTERTRAVADOS E = 6 CM, INCLUSIVE COLCHÃO DE AREIA E = 6 CM. | E87: M² | F87: 578.63 | G87: 57.37 | H87: =G87+(G87*H6) -> 71.7125 | I87: =F87*H87 -> 41495.004
A88: 9.7 | B88: ED-51148 | C88: SETOP | D88: RAMPA PARA ACESSO DE DEFICIENTE, EM CONCRETO SIMPLES FCK = 25 MPA, DESEMPENADA, COM PINTURA INDICATIVA, 02 DEMÃOS. | E88: U | F88: 4 | G88: 260.63 | H88: =G88+(G88*H6) -> 325.7875 | I88: =F88*H88 -> 1303.15
A89: 9.8 | B89: 42440 | C89: SINAPI | D89: LIXEIRA DUPLA, COM CAPACIDADE VOLUMETRICA DE 60L*, FABRICADA EM TUBO DE ACO CARBONO, CESTOS EM CHAPA DE ACO E PINTURA NO PROCESSO ELETROSTATICO - PARA ACADEMIA AO AR LIVRE / ACADEMIA DA TERCEIRA IDADE - ATI | E89: U | F89: 4 | G89: 707.48 | H89: =G89+(G89*H6) -> 884.35 | I89: =F89*H89 -> 3537.4
A90: 9.9 | B90: 99855 | C90: SINAPI | D90: CORRIMÃO SIMPLES, DIÂMETRO EXTERNO = 1 1/2", EM AÇO GALVANIZADO. | E90: M | F90: 18.24 | G90: 81.48 | H90: =G90+(G90*H6) -> 101.85 | I90: =F90*H90 -> 1857.744
A91: 9.10 | B91: ED-50437 | C91: SETOP | D91: PLANTIO DE GRAMA ESMERALDA EM PLACAS, INCLUSIVE TERRA VEGETAL E CONSERVAÇÃO POR 30 DIAS | E91: M2 | F91: 147.36 | G91: 17.17 | H91: =G91+(G91*H6) -> 21.4625 | I91: =F91*H91 -> 3162.714
A92: 9.11 | B92: ED-48353 | C92: SETOP | D92: BANCO INTERNO EM CONCRETO E ALVENARIA, ACABAMENTO EM VERNIZ, E = 8 CM, L = 40 CM | E92: M | F92: 30.46 | G92: 150.62 | H92: =G92+(G92*H6) -> 188.275 | I92: =F92*H92 -> 5734.8565
A93: 9.12 | B93: 98511 | C93: SINAPI | D93: PLANTIO DE ÁRVORE ORNAMENTAL COM ALTURA DE MUDA MAIOR QUE 2,00 M E MENOR OU IGUAL A 4,00 M. | E93: M | F93: 3 | G93: 106.94 | H93: =G93+(G93*H6) -> 133.675 | I93: =F93*H93 -> 401.025
A94: SUBTOTAL | E94: =SUM(I82:I94) -> 77294.561
A96: 10 | B96: PERGOLADO
A97: 10.1 | B97: ED-49747 | C97: SETOP | D97: PERFURAÇÃO DE ESTACA BROCA A TRADO MANUAL D = 200 MM | E97: M | F97: 18 | G97: 19.84 | H97: =G97+(G97*H6) -> 24.8 | I97: =F97*H97 -> 446.4
A98: 10.2 | B98: ED-49810 | C98: SETOP | D98: FORMA E DESFORMA DE TÁBUA E SARRAFO, REAPROVEITAMENTO (3X) (FUNDAÇÃO) | E98: M² | F98: 38.25 | G98: 38.35 | H98: =G98+(G98*H6) -> 47.9375 | I98: =F98*H98 -> 1833.6094
A99: 10.3 | B99: ED-48297 | C99: SETOP | D99: CORTE, DOBRA E MONTAGEM DE AÇO CA-60 DIÂMETRO (4,2MM A 5,0MM). | E99: KG | F99: 95.29 | G99: 7.23 | H99: =G99+(G99*H6) -> 9.0375 | I99: =F99*H99 -> 861.18338
A100: 10.4 | B100: ED-48295 | C100: SETOP | D100: CORTE, DOBRA E MONTAGEM DE AÇO CA-50 DIÂMETRO (6,3MM A 12,5MM). | E100: KG | F100: 116.64 | G100: 7.42 | H100: =G100+(G100*H6) -> 9.275 | I100: =F100*H100 -> 1081.836
A101: 10.5 | B101: RO-41632 | C101: SETOP | D101: CONCRETO DE CIMENTO PORTLAND,FCK>=25,0MPA (EXECUÇÃO, INCLUINDO O FORNECIMENTO E TRANSPORTE DOS AGREGADOS). | E101: M³ | F101: 2.6 | G101: 359.66 | H101: =G101+(G101*H6) -> 449.575 | I101: =F101*H101 -> 1168.895
A102: 10.6 | B102: COMPOSIÇÃO | C102: SINAPI | D102: RIPAMENTO PARA PERGOLADO | E102: M2 | F102: 15.42 | G102: 53.94 | H102: =G102+(G102*H6) -> 67.425 | I102: =F102*H102 -> 1039.6935
A103: SUBTOTAL | E103: =SUM(I97:I102) -> 6431.6173
A105: 11 | B105: SERVIÇOS FINAIS
A106: 11.1 | B106: ED-50266 | C106: SETOP | D106: LIMPEZA FINAL PARA ENTREGA DA OBRA. | E106: M² | F106: 1 | G106: 4.55 | H106: =G106+(G106*H6) -> 5.6875 | I106: =F106*H106 -> 5.6875
A107: 11.2 | B107: ED-50635 | C107: SETOP | D107: PLACA DE INAUGURAÇÃO EM ALUMÍNIO FUNDIDO 85 X 50 CM | E107: CJ | F107: 1 | G107: 847.49 | H107: =G107+(G107*H6) -> 1059.3625 | I107: =F107*H107 -> 1059.3625
D108: SUBTOTAL | E108: =SUM(I106:I107) -> 1065.05
A110: TOTAL | I110: =SUM(E108,E94,E79,E62,E54,E38,E33,E26,E21,E16,E103) -> 248064.62

Sheet CRONOGRAMA MODELO
B2: PREFEITURA MUNICIPAL DE BURITIZEIRO
B3: CNPJ: 18.279.067/0001-72
B4: TEL: (0XX38) 3742 - 1011 - FAX: (0XX38) 3742-1003/1195
B6: CRONOGRAMA FÍSICO FINANCEIRO
B7: =Orçamento!A8 -> Objeto: Revitalização Balnéario do Córrego das Pedras
B8: =Orçamento!A9 -> Endereço: Rua Mauá, Buritizeiro - MG
B9: PRAZO DE EXECUÇÃO: 90 DIAS.
B10: ÍTEM | C10: DESCRIÇÃO | D10: VALOR | E10: 1º Mês | G10: 2º Mês
B11: 1 | C11: =Orçamento!B14 -> SERVIÇOS INICIAIS | D11: =Orçamento!E16 -> 1360.95 | E11: =D11*F11 -> 1360.95 | F11: 1 | G11: =D11*H11 -> 0
B12: 2 | C12: =Orçamento!B23 -> REMOÇÕES E DEMOLIÇÕES | D12: =Orçamento!E26 -> 5620.8939 | E12: =D12*F12 -> 5620.8939 | F12: 1 | G12: =D12*H12 -> 0
B13: 3 | C13: =Orçamento!B40 -> INFRAESTRUTURA | D13: =Orçamento!E54 -> 77256.891 | E13: =D13*F13 -> 77256.891 | F13: 1 | G13: =D13*H13 -> 0
B14: 4 | C14: =Orçamento!B28 -> MOVIMENTAÇÃO DE TERRA | D14: =Orçamento!E33 -> 11181.853 | E14: =D14*F14 -> 11181.853 | F14: 1 | G14: =D14*H14 -> 0
B15: 5 | C15: =Orçamento!B81 -> URBANIZAÇÃO | D15: =Orçamento!E94 -> 77294.561 | E15: =D15*F15 -> 38647.281 | F15: 0.5 | G15: =D15*H15 -> 38647.281 | H15: 0.5
B16: 6 | C16: =Orçamento!#REF! -> #REF! | D16: =Orçamento!#REF! -> #REF! | E16: =D16*F16 -> #REF! | G16: =D16*H16 -> #REF! | H16: 1
B17: 7 | C17: =Orçamento!B105 -> SERVIÇOS FINAIS | D17: =Orçamento!E108 -> 1065.05 | E17: =B17*F17 -> 0 | G17: =D17*H17 -> 1065.05 | H17: 1
B18: TOTAL DO MÊS (R$) | D18: =SUM(D11:D17) -> #REF! | E18: =SUM(E11:E17) -> #REF! | G18: =SUM(G11:G17) -> #REF!
B19: TOTAL DO MÊS (%) | E19: =$E$18/D18 -> #REF! | G19: =$G$18/D18 -> #REF!
B20: TOTAL ACUMULADO (R$) | E20: =SUM(E18:H18) -> #REF!
B21: TOTAL ACUMULADO (%) | E21: =SUM(E19:H19) -> #REF!
B24: Buritizeiro, 25 de junho de 2020
E25: ____________________________________________
F27: Engenheiro Civil
F28: CREA:
