Workbook

Sheet Orçamento
A1: PLANILHA ORÇAMENTÁRIA
C3: PREFEITURA MUNICIPAL DE BURITIZEIRO/MG CNPJ: 18.279.067/0001-72 | F3: Data: | H3: 44266
F4: Data base: SINAPI | H4: 44228
F5: Data base: SETOP | H5: 44197
F6: BDI: | H6: 0.25
A8: Objeto: Revitalização Balnéario do Córrego das Pedras
A9: Endereço: Rua Mauá, Buritizeiro - MG
G11: TOTAL | I11: =SUM(I110) -> 248064.62
A12: ITEM | B12: CÓDIGO | C12: FONTE | D12: DESCRIÇÃO DOS SERVIÇOS | E12: UNID. | F12: QUANT. | G12: VALOR UNIT (R$) | H12: VALOR UNIT COM BDI R$ | I12: VALOR (R$)
A14: 1 | B14: SERVIÇOS INICIAIS
A15: 1.1 | B15: ED-50152 | C15: SETOP | D15: FORNECIMENTO E COLOCAÇÃO DE PLACA DE OBRA EM CHAPA GALVANIZADA (3,00 X 1,5 0 M) - EM CHAPA GALVANIZADA 0,26 AFIXADAS COM REBITES 540 E PARAFUSOS 3/8, EM ESTRUTURA METÁLICA VIGA U 2" ENRIJECIDA COM METALON 20 X 20, SUPORTE EM EUCALIPTO AUTOCLAVADO PINTADAS. | E15: U | F15: 1 | G15: 1088.76 | H15: =G15+(G15*H6) -> 1360.95 | I15: =F15*H15 -> 1360.95
D16: SUBTOTAL | E16: =SUM(I15:I15) -> 1360.95
A18: 2 | B18: ADMINISTRAÇÃO LOCAL
A19: 2.1 | B19: 90777 | C19: SINAPI | D19: ENGENHEIRO CIVIL DE OBRA JUNIOR COM ENCARGOS COMPLEMENTARES | E19: H | F19: 60 | G19: 76.39 | H19: =G19+(G19*H6) -> 95.4875 | I19: =F19*H19 -> 5729.25
A20: 2.2 | B20: 90776 | C20: SINAPI | D20: ENCARREGADO GERAL COM ENCARGOS COMPLEMENTARES | E20: H | F20: 720 | G20: 35.26 | H20: =G20+(G20*H6) -> 44.075 | I20: =F20*H20 -> 31734
D21: SUBTOTAL | E21: =SUM(I19:I20) -> 37463.25
A23: 3 | B23: REMOÇÕES E DEMOLIÇÕES
A24: 3.1 | B24: ED-48473 | C24: SETOP | D24: REMOÇÃO DE MEIO-FIO DE PEDRA(GNAISSE, BASALTO, ETC.) INCLUSIVE CARGA. | E24: M | F24: 230.72 | G24: 18.83 | H24: =G24+(G24*H6) -> 23.5375 | I24: =F24*H24 -> 5430.572
A25: 3.2 | B25: RO-41602 | C25: SETOP | D25: DEMOLIÇÃO MECÂNICA DE CONCRETO ARMADO | E25: M3 | F25: 1.125 | G25: 135.34 | H25: =G25+(G25*H6) -> 169.175 | I25: =F25*H25 -> 190.32188
D26: SUBTOTAL | E26: =SUM(I24:I25) -> 5620.8939
A28: 4 | B28: MOVIMENTAÇÃO DE TERRA
A29: 4.1 | B29: ED-51107 | C29: SETOP | D29: ESCAVAÇÃO MANUAL DE VALAS H <= 1,50 M | E29: M3 | F29: 10.8 | G29: 28.2 | H29: =G29+(G29*H6) -> 35.25 | I29: =F29*H29 -> 380.7
A30: 4.2 | B30: ED-51105 | C30: SETOP | D30: ESCAVAÇÃO E CARGA MECANIZADA EM MATERIAL DE 1ª CATEGORIA | E30: M³ | F30: 657.3 | G30: 3.3 | H30: =G30+(G30*H6) -> 4.125 | I30: =F30*H30 -> 2711.3625
A31: 4.3 | B31: ED-51129 | C31: SETOP | D31: TRANSPORTE DE MATERIAL DE QUALQUER NATUREZA EM CAMINHÃO 2 KM < DMT <= 5 KM (DENTRO DO PERÍMETRO URBANO) | E31: M3xKM | F31: 1314.6 | G31: 3.33 | H31: =G31+(G31*H6) -> 4.1625 | I31: =F31*H31 -> 5472.0225
A32: 4.4 | B32: ED-51123 | C32: SETOP | D32: REGULARIZAÇÃO E COMPACTAÇÃO DE TERRENO COM PLACA VIBRATÓRIA | E32: M2 | F32: 847.86 | G32: 2.47 | H32: =G32+(G32*H6) -> 3.0875 | I32: =F32*H32 -> 2617.7678
D33: SUBTOTAL | E33: =SUM(I29:I33) -> 11181.853
A35: 5 | B35: DRENAGEM
A36: 5.1 | B36: ED-48550 | C36: SETOP | D36: BOCA DE LOBO SIMPLES (TIPO B - CONCRETO), QUADRO, GRELHA E CANTONEIRA, INCLUSIVE ESCAVAÇÃO, REATERRO E BOTA-FORA | E36: U | F36: 1 | G36: 824.24 | H36: =G36+(G36*H6) -> 1030.3 | I36: =F36*H36 -> 1030.3
A37: 5.2 | B37: ED-48683 | C37: SETOP | D37: FORNECIMENTO, ASSENTAMENTO E REJUNTAMENTO DE TUBO DE CONCRETO ARMADO PA1 D = 800 MM | E37: M | F37: 2 | G37: 242.94 | H37: =G37+(G37*H6) -> 303.675 | I37: =F37*H37 -> 607.35
D38: SUBTOTAL | E38: =SUM(I36:I37) -> 1637.65
A40: 6 | B40: INFRAESTRUTURA
A41: 6.1 | B41: ED-49747 | C41: SETOP | D41: PERFURAÇÃO DE ESTACA BROCA A TRADO MANUAL D = 200 MM | E41: M | F41: 139 | G41: 19.84 | H41: =G41+(G41*H6) -> 24.8 | I41: =F41*H41 -> 3447.2
A42: 6.2 | B42: ED-49810 | C42: SETOP | D42: FORMA E DESFORMA DE TÁBUA E SARRAFO, REAPROVEITAMENTO (3X) (FUNDAÇÃO) | E42: M² | F42: 159.5 | G42: 38.35 | H42: =G42+(G42*H6) -> 47.9375 | I42: =F42*H42 -> 7646.0312
A43: 6.3 | B43: ED-48297 | C43: SETOP | D43: CORTE, DOBRA E MONTAGEM DE AÇO CA-60 DIÂMETRO (4,2MM A 5,0MM). | E43: KG | F43: 318.62 | G43: 7.23 | H43: =G43+(G43*H6) -> 9.0375 | I43: =F43*H43 -> 2879.5283
A44: 6.4 | B44: ED-48295 | C44: SETOP | D44: CORTE, DOBRA E MONTAGEM DE AÇO CA-50 DIÂMETRO (6,3MM A 12,5MM). | E44: KG | F44: 810.25 | G44: 7.42 | H44: =G44+(G44*H6) -> 9.275 | I44: =F44*H44 -> 7515.0688
A45: 6.5 | B45: RO-41632 | C45: SETOP | D45: CONCRETO DE CIMENTO PORTLAND,FCK>=25,0MPA (EXECUÇÃO, INCLUINDO O FORNECIMENTO E TRANSPORTE DOS AGREGADOS). | E45: M³ | F45: 18.86 | G45: 359.66 | H45: =G45+(G45*H6) -> 449.575 | I45: =F45*H45 -> 8478.9845
A46: 6.6 | B46: ED-48214 | C46: SETOP | D46: ALVENARIA DE BLOCO DE CONCRETO CHEIO COM ARMAÇÃO, EM CONCRETO COM FCK 15MPA , ESP. 19CM, PARA REVESTIMENTO, INCLUSIVE ARGAMASSA PARA ASSENTAMENTO (DETALHE D - CADERNO SEDS). | E46: M2 | F46: 142.14 | G46: 186.03 | H46: =G46+(G46*H6) -> 232.5375 | I46: =F46*H46 -> 33052.88
A47: 6.7 | B47: ED-48195 | C47: SETOP | D47: ALVENARIA DE VEDAÇÃO COM BLOCO DE CONCRETO, ESP. 14CM, COM ACABAMENTO APARENTE, INCLUSIVE ARGAMASSA PARA ASSENTAMENTO | E47: M2 | F47: 21.12 | G47: 62.91 | H47: =G47+(G47*H6) -> 78.6375 | I47: =F47*H47 -> 1660.824
A48: 6.8 | B48: COMPOSIÇÃO | C48: SINAPI | D48: CONTRAPISO EM ARGAMASSA PRONTA COM PEDRA PORTUGUESA, PREPARO MANUAL, APLICADO EM ÁREAS MOLHADAS , ADERIDO, ESPESSURA 8CM. | E48: M2 | F48: 15.9 | G48: 192.37 | H48: =G48+(G48*H6) -> 240.4625 | I48: =F48*H48 -> 3823.3538
A49: 6.9 | B49: 97084 | C49: SINAPI | D49: COMPACTAÇÃO MECÂNICA DE SOLO PARA EXECUÇÃO DE RADIER, COM COMPACTADOR DE SOLOS TIPO PLACA VIBRATÓRIA. | E49: M2 | F49: 43.2 | G49: 0.42 | H49: =G49+(G49*H6) -> 0.525 | I49: =F49*H49 -> 22.68
...

Sheet CRONOGRAMA MODELO
B2: PREFEITURA MUNICIPAL DE BURITIZEIRO
B3: CNPJ: 18.279.067/0001-72
B4: TEL: (0XX38) 3742 - 1011 - FAX: (0XX38) 3742-1003/1195
B6: CRONOGRAMA FÍSICO FINANCEIRO
B7: =Orçamento!A8 -> Objeto: Revitalização Balnéario do Córrego das Pedras
B8: =Orçamento!A9 -> Endereço: Rua Mauá, Buritizeiro - MG
B9: PRAZO DE EXECUÇÃO: 90 DIAS.
B10: ÍTEM | C10: DESCRIÇÃO | D10: VALOR | E10: 1º Mês | G10: 2º Mês
B11: 1 | C11: =Orçamento!B14 -> SERVIÇOS INICIAIS | D11: =Orçamento!E16 -> 1360.95 | E11: =D11*F11 -> 1360.95 | F11: 1 | G11: =D11*H11 -> 0
B12: 2 | C12: =Orçamento!B23 -> REMOÇÕES E DEMOLIÇÕES | D12: =Orçamento!E26 -> 5620.8939 | E12: =D12*F12 -> 5620.8939 | F12: 1 | G12: =D12*H12 -> 0
B13: 3 | C13: =Orçamento!B40 -> INFRAESTRUTURA | D13: =Orçamento!E54 -> 77256.891 | E13: =D13*F13 -> 77256.891 | F13: 1 | G13: =D13*H13 -> 0
B14: 4 | C14: =Orçamento!B28 -> MOVIMENTAÇÃO DE TERRA | D14: =Orçamento!E33 -> 11181.853 | E14: =D14*F14 -> 11181.853 | F14: 1 | G14: =D14*H14 -> 0
B15: 5 | C15: =Orçamento!B81 -> URBANIZAÇÃO | D15: =Orçamento!E94 -> 77294.561 | E15: =D15*F15 -> 38647.281 | F15: 0.5 | G15: =D15*H15 -> 38647.281 | H15: 0.5
B16: 6 | C16: =Orçamento!#REF! -> #REF! | D16: =Orçamento!#REF! -> #REF! | E16: =D16*F16 -> #REF! | G16: =D16*H16 -> #REF! | H16: 1
B17: 7 | C17: =Orçamento!B105 -> SERVIÇOS FINAIS | D17: =Orçamento!E108 -> 1065.05 | E17: =B17*F17 -> 0 | G17: =D17*H17 -> 1065.05 | H17: 1
B18: TOTAL DO MÊS (R$) | D18: =SUM(D11:D17) -> #REF! | E18: =SUM(E11:E17) -> #REF! | G18: =SUM(G11:G17) -> #REF!
B19: TOTAL DO MÊS (%) | E19: =$E$18/D18 -> #REF! | G19: =$G$18/D18 -> #REF!
B20: TOTAL ACUMULADO (R$) | E20: =SUM(E18:H18) -> #REF!
B21: TOTAL ACUMULADO (%) | E21: =SUM(E19:H19) -> #REF!
B24: Buritizeiro, 25 de junho de 2020
E25: ____________________________________________
F27: Engenheiro Civil
F28: CREA:
